BEGIN:VCALENDAR
VERSION:2.0
PRODID:-//eventon.com NONSGML v1.0//EN
CALSCALE:GREGORIAN
METHOD:PUBLISH
BEGIN:VEVENT
UID:69e59d2d34c44
DTSTAMP:20260420T032741Z
DTSTART:20250711T100000Z
DTEND:20250711T235900Z
LOCATION:
SUMMARY:Ribbon Cutting Ceremony
DESCRIPTION:\nhttps://glomglobal.com/events/ribbon-cutting-ceremony/
URL:https://glomglobal.com/events/ribbon-cutting-ceremony/
END:VEVENT
END:VCALENDAR